BEGIN:VCALENDAR
VERSION:2.0
PRODID:-//West Hunsbury Parish Council//Meeting Calendar//EN
CALSCALE:GREGORIAN
METHOD:PUBLISH
BEGIN:VEVENT
UID:70466-20250717@westhunsburyparishcouncil.gov.uk
DTSTAMP:20260422T085523Z
DTSTART;VALUE=DATE:20250717
DTEND;VALUE=DATE:20250718
SUMMARY:Council Meeting – 17 July 2025
DESCRIPTION:Full Council Meeting\nView details: https://westhunsburyparishcouncil.gov.uk/meetings/council-meeting-17-july-2025/
URL:https://westhunsburyparishcouncil.gov.uk/meetings/council-meeting-17-july-2025/
END:VEVENT
END:VCALENDAR
