BEGIN:VCALENDAR
VERSION:2.0
PRODID:-//West Hunsbury Parish Council//Meeting Calendar//EN
CALSCALE:GREGORIAN
METHOD:PUBLISH
BEGIN:VEVENT
UID:70469-20250617@westhunsburyparishcouncil.gov.uk
DTSTAMP:20260423T084448Z
DTSTART;VALUE=DATE:20250617
DTEND;VALUE=DATE:20250618
SUMMARY:Council Meeting – 19 June 2025
DESCRIPTION:Full Council Meeting\nView details: https://westhunsburyparishcouncil.gov.uk/meetings/council-meeting-19-june-2025/
URL:https://westhunsburyparishcouncil.gov.uk/meetings/council-meeting-19-june-2025/
END:VEVENT
END:VCALENDAR
