BEGIN:VCALENDAR
VERSION:2.0
PRODID:-//West Hunsbury Parish Council//Meeting Calendar//EN
CALSCALE:GREGORIAN
METHOD:PUBLISH
BEGIN:VEVENT
UID:70472-20250609@westhunsburyparishcouncil.gov.uk
DTSTAMP:20260422T083005Z
DTSTART;VALUE=DATE:20250609
DTEND;VALUE=DATE:20250610
SUMMARY:Extra Ordinary Council Meeting – 9 June 2025
DESCRIPTION:Full Council Meeting\nView details: https://westhunsburyparishcouncil.gov.uk/meetings/extra-ordinary-council-meeting-9-june-2025/
URL:https://westhunsburyparishcouncil.gov.uk/meetings/extra-ordinary-council-meeting-9-june-2025/
END:VEVENT
END:VCALENDAR
