BEGIN:VCALENDAR
VERSION:2.0
PRODID:-//West Hunsbury Parish Council//Meeting Calendar//EN
CALSCALE:GREGORIAN
METHOD:PUBLISH
BEGIN:VEVENT
UID:70483-20250220@westhunsburyparishcouncil.gov.uk
DTSTAMP:20260422T083729Z
DTSTART;VALUE=DATE:20250220
DTEND;VALUE=DATE:20250221
SUMMARY:Council Meeting – 20 February 2025
DESCRIPTION:Full Council Meeting\nView details: https://westhunsburyparishcouncil.gov.uk/meetings/council-meeting-20-february-2025/
URL:https://westhunsburyparishcouncil.gov.uk/meetings/council-meeting-20-february-2025/
END:VEVENT
END:VCALENDAR
