BEGIN:VCALENDAR
VERSION:2.0
PRODID:-//West Hunsbury Parish Council//Meeting Calendar//EN
CALSCALE:GREGORIAN
METHOD:PUBLISH
BEGIN:VEVENT
UID:70486-20250116@westhunsburyparishcouncil.gov.uk
DTSTAMP:20260422T083455Z
DTSTART;VALUE=DATE:20250116
DTEND;VALUE=DATE:20250117
SUMMARY:Council Meeting – 16 January 2025
DESCRIPTION:Full Council Meeting\nView details: https://westhunsburyparishcouncil.gov.uk/meetings/council-meeting-16-january-2025/
URL:https://westhunsburyparishcouncil.gov.uk/meetings/council-meeting-16-january-2025/
END:VEVENT
END:VCALENDAR
